BEGIN:VCALENDAR
VERSION:2.0
PRODID:-//Redwood Coast Montessori - ECPv6.15.20//NONSGML v1.0//EN
CALSCALE:GREGORIAN
METHOD:PUBLISH
X-WR-CALNAME:Redwood Coast Montessori
X-ORIGINAL-URL:https://redwoodcoastmontessori.org
X-WR-CALDESC:Events for Redwood Coast Montessori
REFRESH-INTERVAL;VALUE=DURATION:PT1H
X-Robots-Tag:noindex
X-PUBLISHED-TTL:PT1H
BEGIN:VTIMEZONE
TZID:America/Los_Angeles
BEGIN:DAYLIGHT
TZOFFSETFROM:-0800
TZOFFSETTO:-0700
TZNAME:PDT
DTSTART:20250309T100000
END:DAYLIGHT
BEGIN:STANDARD
TZOFFSETFROM:-0700
TZOFFSETTO:-0800
TZNAME:PST
DTSTART:20251102T090000
END:STANDARD
BEGIN:DAYLIGHT
TZOFFSETFROM:-0800
TZOFFSETTO:-0700
TZNAME:PDT
DTSTART:20260308T100000
END:DAYLIGHT
BEGIN:STANDARD
TZOFFSETFROM:-0700
TZOFFSETTO:-0800
TZNAME:PST
DTSTART:20261101T090000
END:STANDARD
BEGIN:DAYLIGHT
TZOFFSETFROM:-0800
TZOFFSETTO:-0700
TZNAME:PDT
DTSTART:20270314T100000
END:DAYLIGHT
BEGIN:STANDARD
TZOFFSETFROM:-0700
TZOFFSETTO:-0800
TZNAME:PST
DTSTART:20271107T090000
END:STANDARD
BEGIN:DAYLIGHT
TZOFFSETFROM:-0800
TZOFFSETTO:-0700
TZNAME:PDT
DTSTART:20280312T100000
END:DAYLIGHT
BEGIN:STANDARD
TZOFFSETFROM:-0700
TZOFFSETTO:-0800
TZNAME:PST
DTSTART:20281105T090000
END:STANDARD
BEGIN:DAYLIGHT
TZOFFSETFROM:-0800
TZOFFSETTO:-0700
TZNAME:PDT
DTSTART:20290311T100000
END:DAYLIGHT
BEGIN:STANDARD
TZOFFSETFROM:-0700
TZOFFSETTO:-0800
TZNAME:PST
DTSTART:20291104T090000
END:STANDARD
END:VTIMEZONE
BEGIN:VEVENT
DTSTART;TZID=America/Los_Angeles:20260421T180000
DTEND;TZID=America/Los_Angeles:20260421T190000
DTSTAMP:20260419T081219
CREATED:20240920T181025Z
LAST-MODIFIED:20250808T202155Z
UID:10000389-1776794400-1776798000@redwoodcoastmontessori.org
SUMMARY:Friends of Redwood Coast Montessori Regular Meeting
DESCRIPTION:
URL:https://redwoodcoastmontessori.org/event/friends-of-redwood-coast-montessori-regular-meeting/2026-04-21/
END:VEVENT
BEGIN:VEVENT
DTSTART;TZID=America/Los_Angeles:20260519T180000
DTEND;TZID=America/Los_Angeles:20260519T190000
DTSTAMP:20260419T081219
CREATED:20240920T181025Z
LAST-MODIFIED:20250808T202155Z
UID:10000390-1779213600-1779217200@redwoodcoastmontessori.org
SUMMARY:Friends of Redwood Coast Montessori Regular Meeting
DESCRIPTION:
URL:https://redwoodcoastmontessori.org/event/friends-of-redwood-coast-montessori-regular-meeting/2026-05-19/
END:VEVENT
BEGIN:VEVENT
DTSTART;TZID=America/Los_Angeles:20260616T180000
DTEND;TZID=America/Los_Angeles:20260616T190000
DTSTAMP:20260419T081219
CREATED:20240920T181025Z
LAST-MODIFIED:20250808T202155Z
UID:10000391-1781632800-1781636400@redwoodcoastmontessori.org
SUMMARY:Friends of Redwood Coast Montessori Regular Meeting
DESCRIPTION:
URL:https://redwoodcoastmontessori.org/event/friends-of-redwood-coast-montessori-regular-meeting/2026-06-16/
END:VEVENT
BEGIN:VEVENT
DTSTART;TZID=America/Los_Angeles:20260721T180000
DTEND;TZID=America/Los_Angeles:20260721T190000
DTSTAMP:20260419T081219
CREATED:20240920T181025Z
LAST-MODIFIED:20250808T202155Z
UID:10000392-1784656800-1784660400@redwoodcoastmontessori.org
SUMMARY:Friends of Redwood Coast Montessori Regular Meeting
DESCRIPTION:
URL:https://redwoodcoastmontessori.org/event/friends-of-redwood-coast-montessori-regular-meeting/2026-07-21/
END:VEVENT
BEGIN:VEVENT
DTSTART;TZID=America/Los_Angeles:20260818T180000
DTEND;TZID=America/Los_Angeles:20260818T190000
DTSTAMP:20260419T081219
CREATED:20240920T181025Z
LAST-MODIFIED:20250808T202155Z
UID:10000393-1787076000-1787079600@redwoodcoastmontessori.org
SUMMARY:Friends of Redwood Coast Montessori Regular Meeting
DESCRIPTION:
URL:https://redwoodcoastmontessori.org/event/friends-of-redwood-coast-montessori-regular-meeting/2026-08-18/
END:VEVENT
BEGIN:VEVENT
DTSTART;TZID=America/Los_Angeles:20260915T180000
DTEND;TZID=America/Los_Angeles:20260915T190000
DTSTAMP:20260419T081219
CREATED:20240920T181025Z
LAST-MODIFIED:20250808T202155Z
UID:10000394-1789495200-1789498800@redwoodcoastmontessori.org
SUMMARY:Friends of Redwood Coast Montessori Regular Meeting
DESCRIPTION:
URL:https://redwoodcoastmontessori.org/event/friends-of-redwood-coast-montessori-regular-meeting/2026-09-15/
END:VEVENT
BEGIN:VEVENT
DTSTART;TZID=America/Los_Angeles:20261020T180000
DTEND;TZID=America/Los_Angeles:20261020T190000
DTSTAMP:20260419T081219
CREATED:20240920T181025Z
LAST-MODIFIED:20250808T202155Z
UID:10000395-1792519200-1792522800@redwoodcoastmontessori.org
SUMMARY:Friends of Redwood Coast Montessori Regular Meeting
DESCRIPTION:
URL:https://redwoodcoastmontessori.org/event/friends-of-redwood-coast-montessori-regular-meeting/2026-10-20/
END:VEVENT
BEGIN:VEVENT
DTSTART;TZID=America/Los_Angeles:20261117T180000
DTEND;TZID=America/Los_Angeles:20261117T190000
DTSTAMP:20260419T081219
CREATED:20240920T181025Z
LAST-MODIFIED:20250808T202155Z
UID:10000396-1794938400-1794942000@redwoodcoastmontessori.org
SUMMARY:Friends of Redwood Coast Montessori Regular Meeting
DESCRIPTION:
URL:https://redwoodcoastmontessori.org/event/friends-of-redwood-coast-montessori-regular-meeting/2026-11-17/
END:VEVENT
BEGIN:VEVENT
DTSTART;TZID=America/Los_Angeles:20261215T180000
DTEND;TZID=America/Los_Angeles:20261215T190000
DTSTAMP:20260419T081220
CREATED:20240920T181025Z
LAST-MODIFIED:20250808T202155Z
UID:10000397-1797357600-1797361200@redwoodcoastmontessori.org
SUMMARY:Friends of Redwood Coast Montessori Regular Meeting
DESCRIPTION:
URL:https://redwoodcoastmontessori.org/event/friends-of-redwood-coast-montessori-regular-meeting/2026-12-15/
END:VEVENT
BEGIN:VEVENT
DTSTART;TZID=America/Los_Angeles:20270119T180000
DTEND;TZID=America/Los_Angeles:20270119T190000
DTSTAMP:20260419T081220
CREATED:20240920T181025Z
LAST-MODIFIED:20250808T202155Z
UID:10000398-1800381600-1800385200@redwoodcoastmontessori.org
SUMMARY:Friends of Redwood Coast Montessori Regular Meeting
DESCRIPTION:
URL:https://redwoodcoastmontessori.org/event/friends-of-redwood-coast-montessori-regular-meeting/2027-01-19/
END:VEVENT
BEGIN:VEVENT
DTSTART;TZID=America/Los_Angeles:20270216T180000
DTEND;TZID=America/Los_Angeles:20270216T190000
DTSTAMP:20260419T081220
CREATED:20240920T181025Z
LAST-MODIFIED:20250808T202155Z
UID:10000399-1802800800-1802804400@redwoodcoastmontessori.org
SUMMARY:Friends of Redwood Coast Montessori Regular Meeting
DESCRIPTION:
URL:https://redwoodcoastmontessori.org/event/friends-of-redwood-coast-montessori-regular-meeting/2027-02-16/
END:VEVENT
BEGIN:VEVENT
DTSTART;TZID=America/Los_Angeles:20270316T180000
DTEND;TZID=America/Los_Angeles:20270316T190000
DTSTAMP:20260419T081220
CREATED:20240920T181025Z
LAST-MODIFIED:20250808T202155Z
UID:10000400-1805220000-1805223600@redwoodcoastmontessori.org
SUMMARY:Friends of Redwood Coast Montessori Regular Meeting
DESCRIPTION:
URL:https://redwoodcoastmontessori.org/event/friends-of-redwood-coast-montessori-regular-meeting/2027-03-16/
END:VEVENT
BEGIN:VEVENT
DTSTART;TZID=America/Los_Angeles:20270420T180000
DTEND;TZID=America/Los_Angeles:20270420T190000
DTSTAMP:20260419T081220
CREATED:20240920T181025Z
LAST-MODIFIED:20250808T202155Z
UID:10000401-1808244000-1808247600@redwoodcoastmontessori.org
SUMMARY:Friends of Redwood Coast Montessori Regular Meeting
DESCRIPTION:
URL:https://redwoodcoastmontessori.org/event/friends-of-redwood-coast-montessori-regular-meeting/2027-04-20/
END:VEVENT
BEGIN:VEVENT
DTSTART;TZID=America/Los_Angeles:20270518T180000
DTEND;TZID=America/Los_Angeles:20270518T190000
DTSTAMP:20260419T081220
CREATED:20240920T181025Z
LAST-MODIFIED:20250808T202155Z
UID:10000402-1810663200-1810666800@redwoodcoastmontessori.org
SUMMARY:Friends of Redwood Coast Montessori Regular Meeting
DESCRIPTION:
URL:https://redwoodcoastmontessori.org/event/friends-of-redwood-coast-montessori-regular-meeting/2027-05-18/
END:VEVENT
BEGIN:VEVENT
DTSTART;TZID=America/Los_Angeles:20270615T180000
DTEND;TZID=America/Los_Angeles:20270615T190000
DTSTAMP:20260419T081220
CREATED:20240920T181025Z
LAST-MODIFIED:20250808T202155Z
UID:10000403-1813082400-1813086000@redwoodcoastmontessori.org
SUMMARY:Friends of Redwood Coast Montessori Regular Meeting
DESCRIPTION:
URL:https://redwoodcoastmontessori.org/event/friends-of-redwood-coast-montessori-regular-meeting/2027-06-15/
END:VEVENT
BEGIN:VEVENT
DTSTART;TZID=America/Los_Angeles:20270720T180000
DTEND;TZID=America/Los_Angeles:20270720T190000
DTSTAMP:20260419T081220
CREATED:20240920T181025Z
LAST-MODIFIED:20250808T202155Z
UID:10000404-1816106400-1816110000@redwoodcoastmontessori.org
SUMMARY:Friends of Redwood Coast Montessori Regular Meeting
DESCRIPTION:
URL:https://redwoodcoastmontessori.org/event/friends-of-redwood-coast-montessori-regular-meeting/2027-07-20/
END:VEVENT
BEGIN:VEVENT
DTSTART;TZID=America/Los_Angeles:20270817T180000
DTEND;TZID=America/Los_Angeles:20270817T190000
DTSTAMP:20260419T081220
CREATED:20240920T181025Z
LAST-MODIFIED:20250808T202155Z
UID:10000405-1818525600-1818529200@redwoodcoastmontessori.org
SUMMARY:Friends of Redwood Coast Montessori Regular Meeting
DESCRIPTION:
URL:https://redwoodcoastmontessori.org/event/friends-of-redwood-coast-montessori-regular-meeting/2027-08-17/
END:VEVENT
BEGIN:VEVENT
DTSTART;TZID=America/Los_Angeles:20270921T180000
DTEND;TZID=America/Los_Angeles:20270921T190000
DTSTAMP:20260419T081220
CREATED:20240920T181025Z
LAST-MODIFIED:20250808T202155Z
UID:10000406-1821549600-1821553200@redwoodcoastmontessori.org
SUMMARY:Friends of Redwood Coast Montessori Regular Meeting
DESCRIPTION:
URL:https://redwoodcoastmontessori.org/event/friends-of-redwood-coast-montessori-regular-meeting/2027-09-21/
END:VEVENT
BEGIN:VEVENT
DTSTART;TZID=America/Los_Angeles:20271019T180000
DTEND;TZID=America/Los_Angeles:20271019T190000
DTSTAMP:20260419T081220
CREATED:20240920T181025Z
LAST-MODIFIED:20250808T202155Z
UID:10000407-1823968800-1823972400@redwoodcoastmontessori.org
SUMMARY:Friends of Redwood Coast Montessori Regular Meeting
DESCRIPTION:
URL:https://redwoodcoastmontessori.org/event/friends-of-redwood-coast-montessori-regular-meeting/2027-10-19/
END:VEVENT
BEGIN:VEVENT
DTSTART;TZID=America/Los_Angeles:20271116T180000
DTEND;TZID=America/Los_Angeles:20271116T190000
DTSTAMP:20260419T081220
CREATED:20240920T181025Z
LAST-MODIFIED:20250808T202155Z
UID:10000408-1826388000-1826391600@redwoodcoastmontessori.org
SUMMARY:Friends of Redwood Coast Montessori Regular Meeting
DESCRIPTION:
URL:https://redwoodcoastmontessori.org/event/friends-of-redwood-coast-montessori-regular-meeting/2027-11-16/
END:VEVENT
BEGIN:VEVENT
DTSTART;TZID=America/Los_Angeles:20271221T180000
DTEND;TZID=America/Los_Angeles:20271221T190000
DTSTAMP:20260419T081220
CREATED:20240920T181025Z
LAST-MODIFIED:20250808T202155Z
UID:10000409-1829412000-1829415600@redwoodcoastmontessori.org
SUMMARY:Friends of Redwood Coast Montessori Regular Meeting
DESCRIPTION:
URL:https://redwoodcoastmontessori.org/event/friends-of-redwood-coast-montessori-regular-meeting/2027-12-21/
END:VEVENT
BEGIN:VEVENT
DTSTART;TZID=America/Los_Angeles:20280118T180000
DTEND;TZID=America/Los_Angeles:20280118T190000
DTSTAMP:20260419T081220
CREATED:20240920T181025Z
LAST-MODIFIED:20250808T202155Z
UID:10000410-1831831200-1831834800@redwoodcoastmontessori.org
SUMMARY:Friends of Redwood Coast Montessori Regular Meeting
DESCRIPTION:
URL:https://redwoodcoastmontessori.org/event/friends-of-redwood-coast-montessori-regular-meeting/2028-01-18/
END:VEVENT
BEGIN:VEVENT
DTSTART;TZID=America/Los_Angeles:20280215T180000
DTEND;TZID=America/Los_Angeles:20280215T190000
DTSTAMP:20260419T081220
CREATED:20240920T181025Z
LAST-MODIFIED:20250808T202155Z
UID:10000411-1834250400-1834254000@redwoodcoastmontessori.org
SUMMARY:Friends of Redwood Coast Montessori Regular Meeting
DESCRIPTION:
URL:https://redwoodcoastmontessori.org/event/friends-of-redwood-coast-montessori-regular-meeting/2028-02-15/
END:VEVENT
BEGIN:VEVENT
DTSTART;TZID=America/Los_Angeles:20280321T180000
DTEND;TZID=America/Los_Angeles:20280321T190000
DTSTAMP:20260419T081220
CREATED:20240920T181025Z
LAST-MODIFIED:20250808T202155Z
UID:10000412-1837274400-1837278000@redwoodcoastmontessori.org
SUMMARY:Friends of Redwood Coast Montessori Regular Meeting
DESCRIPTION:
URL:https://redwoodcoastmontessori.org/event/friends-of-redwood-coast-montessori-regular-meeting/2028-03-21/
END:VEVENT
BEGIN:VEVENT
DTSTART;TZID=America/Los_Angeles:20280418T180000
DTEND;TZID=America/Los_Angeles:20280418T190000
DTSTAMP:20260419T081220
CREATED:20240920T181025Z
LAST-MODIFIED:20250808T202155Z
UID:10000413-1839693600-1839697200@redwoodcoastmontessori.org
SUMMARY:Friends of Redwood Coast Montessori Regular Meeting
DESCRIPTION:
URL:https://redwoodcoastmontessori.org/event/friends-of-redwood-coast-montessori-regular-meeting/2028-04-18/
END:VEVENT
BEGIN:VEVENT
DTSTART;TZID=America/Los_Angeles:20280516T180000
DTEND;TZID=America/Los_Angeles:20280516T190000
DTSTAMP:20260419T081220
CREATED:20240920T181025Z
LAST-MODIFIED:20250808T202155Z
UID:10000414-1842112800-1842116400@redwoodcoastmontessori.org
SUMMARY:Friends of Redwood Coast Montessori Regular Meeting
DESCRIPTION:
URL:https://redwoodcoastmontessori.org/event/friends-of-redwood-coast-montessori-regular-meeting/2028-05-16/
END:VEVENT
BEGIN:VEVENT
DTSTART;TZID=America/Los_Angeles:20280620T180000
DTEND;TZID=America/Los_Angeles:20280620T190000
DTSTAMP:20260419T081220
CREATED:20240920T181025Z
LAST-MODIFIED:20250808T202155Z
UID:10000415-1845136800-1845140400@redwoodcoastmontessori.org
SUMMARY:Friends of Redwood Coast Montessori Regular Meeting
DESCRIPTION:
URL:https://redwoodcoastmontessori.org/event/friends-of-redwood-coast-montessori-regular-meeting/2028-06-20/
END:VEVENT
BEGIN:VEVENT
DTSTART;TZID=America/Los_Angeles:20280718T180000
DTEND;TZID=America/Los_Angeles:20280718T190000
DTSTAMP:20260419T081220
CREATED:20240920T181025Z
LAST-MODIFIED:20250808T202155Z
UID:10000416-1847556000-1847559600@redwoodcoastmontessori.org
SUMMARY:Friends of Redwood Coast Montessori Regular Meeting
DESCRIPTION:
URL:https://redwoodcoastmontessori.org/event/friends-of-redwood-coast-montessori-regular-meeting/2028-07-18/
END:VEVENT
BEGIN:VEVENT
DTSTART;TZID=America/Los_Angeles:20280815T180000
DTEND;TZID=America/Los_Angeles:20280815T190000
DTSTAMP:20260419T081220
CREATED:20240920T181025Z
LAST-MODIFIED:20250808T202155Z
UID:10000417-1849975200-1849978800@redwoodcoastmontessori.org
SUMMARY:Friends of Redwood Coast Montessori Regular Meeting
DESCRIPTION:
URL:https://redwoodcoastmontessori.org/event/friends-of-redwood-coast-montessori-regular-meeting/2028-08-15/
END:VEVENT
BEGIN:VEVENT
DTSTART;TZID=America/Los_Angeles:20280919T180000
DTEND;TZID=America/Los_Angeles:20280919T190000
DTSTAMP:20260419T081221
CREATED:20240920T181025Z
LAST-MODIFIED:20250808T202155Z
UID:10000418-1852999200-1853002800@redwoodcoastmontessori.org
SUMMARY:Friends of Redwood Coast Montessori Regular Meeting
DESCRIPTION:
URL:https://redwoodcoastmontessori.org/event/friends-of-redwood-coast-montessori-regular-meeting/2028-09-19/
END:VEVENT
END:VCALENDAR